BEGIN:VCALENDAR
VERSION:2.0
PRODID:-//ChamberMaster//Event Calendar 2.0//EN
METHOD:PUBLISH
X-PUBLISHED-TTL:P1H
REFRESH-INTERVAL:P1H
CALSCALE:GREGORIAN
BEGIN:VTIMEZONE
TZID:America/New_York
BEGIN:DAYLIGHT
RRULE:FREQ=YEARLY;BYMONTH=3;BYDAY=2SU
DTSTART:20070101T000000
TZOFFSETFROM:-0500
TZOFFSETTO:-0400
TZNAME:Eastern Daylight Time
END:DAYLIGHT
BEGIN:STANDARD
RRULE:FREQ=YEARLY;BYMONTH=11;BYDAY=1SU
DTSTART:20070101T000000
TZOFFSETFROM:-0400
TZOFFSETTO:-0500
TZNAME:Eastern Standard Time
END:STANDARD
END:VTIMEZONE
BEGIN:VEVENT
DTSTART;TZID=America/New_York:20260616T120000
DTEND;TZID=America/New_York:20260616T130000
X-MICROSOFT-CDO-ALLDAYEVENT:FALSE
SUMMARY:Spring Update: Help Adults Build in Services & Supports When They Need it!
DESCRIPTION:Spring Update: Help Adults Build in Services & Supports When They Need it! June 16\, 12:00 pm - 1:00 pm\nFree to HCA Members\nThis webinar provides the latest information and tools regarding health care planning and guardianship. We will introduce a NEW Person-Directed Planning Checklist to assess and protect an adult's decision-making skills and build in needed supports\, accommodations and alternatives to avoid Guardianship and Conservatorship. Participants receive new tools and on-line free resources. The webinar includes-           Who's Your Agent? health care planning process to engage adults in simple to serious illness conversations with new tools.         New Adult and Supportive Person Tool Kit for adults with cognitive impairments and complex health needs.          New Person-Directed Planning Checklist to make a plan and build in supports and accommodations to avoid Guardianship and Conservatorship.          The Guardianship Process: When and how to initiate\, modify or terminate a Guardianship with new on-line resources.          Update on MOLST to POLST Transition going live April 2027.          Q/A- share comments and questions to address challenges.\nTakeaways-  Participants receive new tools and on-line free resources.\nSpeaker:Ellen M. DiPaola. JD\, is the President and CEO of Honoring Choices Massachusetts.
X-ALT-DESC;FMTTYPE=text/html:<!DOCTYPE html><html><head><title></title></head><body aria-disabled="false"><p style="margin: 0in 0in 0.0001pt\; font-family: Calibri\, sans-serif\; font-size: 11pt\; text-align: center\;"><span style="font-family: Arial\, sans-serif\; color: black\;"><b data-olk-copy-source="MailCompose"><span style="font-size: 18px\;">Spring Update: Help Adults Build in Services &amp\; Supports When They Need it!</span></b></span></p><p style="margin: 0in 0in 0.0001pt\; font-family: Calibri\, sans-serif\; font-size: 11pt\; text-align: center\;"><span style="font-family: Arial\, sans-serif\; color: black\;"><strong fr-original-style="" style="font-weight: 700\;"><span style="font-size: 18px\;">&nbsp\;June 16\, 12:00 pm - 1:00 pm</span></strong></span></p><p style="margin: 0in 0in 0.0001pt\; font-family: Calibri\, sans-serif\; font-size: 11pt\;"><br></p><p style="margin: 0in 0in 0.0001pt\; font-family: Calibri\, sans-serif\; font-size: 11pt\; text-align: center\;"><span style="font-family: Arial\, sans-serif\; color: rgb(184\, 49\, 47)\;"><strong fr-original-style="" style="font-weight: 700\;"><span style="font-size: 18px\;">Free to HCA Members</span></strong></span></p><p style="margin: 0in 0in 0.0001pt\; font-family: Calibri\, sans-serif\; font-size: 11pt\;"><br></p><p style="margin: 0in 0in 0.0001pt\; font-family: Calibri\, sans-serif\; font-size: 11pt\;"><span style="font-family: Arial\, sans-serif\; color: black\;">This webinar provides the latest information and tools regarding health care planning and guardianship. We will introduce a NEW <em>Person-Directed Planning Checklist&nbsp\;</em>to assess and protect an adult&rsquo\;s decision-making skills and build in needed supports\, accommodations and alternatives to avoid Guardianship and Conservatorship. Participants receive new tools and on-line free resources. The webinar includes-</span></p><p style="margin: 0in 0in 0.0001pt\; font-family: Calibri\, sans-serif\; font-size: 11pt\;"><span style="font-family: Arial\, sans-serif\; color: black\;">&nbsp\;</span></p><p style="text-indent: -0.25in\; margin: 0in 0in 0.0001pt 0.5in\; font-family: Calibri\, sans-serif\; font-size: 11pt\;"><span style="font-family: Symbol\; color: black\;">&middot\;</span><span style='font-family: "Times New Roman"\, serif\; font-size: 7pt\; color: black\;'>&nbsp\; &nbsp\; &nbsp\; &nbsp\; &nbsp\;</span><span style="font-family: Arial\, sans-serif\; color: black\;"><em>Who&rsquo\;s Your Agent?</em> health care planning process to engage adults in simple to serious illness conversations with new tools.</span></p><p style="text-indent: -0.25in\; margin: 0in 0in 0.0001pt 38.7pt\; font-family: Calibri\, sans-serif\; font-size: 11pt\;"><span style="font-family: Symbol\; color: black\;">&middot\;</span><span style='font-family: "Times New Roman"\, serif\; font-size: 7pt\; color: black\;'>&nbsp\; &nbsp\; &nbsp\; &nbsp\;&nbsp\;</span><span style="font-family: Arial\, sans-serif\; font-size: 12pt\; color: black\;">New<em>&nbsp\;</em></span><span style="font-family: Arial\, sans-serif\; color: black\;"><em>Adult and Supportive Person Tool Kit</em> for adults with cognitive impairments and complex health needs.</span></p><p style="text-indent: -0.25in\; margin: 0in 0in 0.0001pt 38.7pt\; font-family: Calibri\, sans-serif\; font-size: 11pt\;"><span style="font-family: Symbol\; color: black\;">&middot\;</span><span style='font-family: "Times New Roman"\, serif\; font-size: 7pt\; color: black\;'>&nbsp\; &nbsp\; &nbsp\; &nbsp\; &nbsp\;</span><span style="font-family: Arial\, sans-serif\; color: black\;">New <em>Person-Directed Planning Checklist</em> to make a plan and build in supports and accommodations to avoid Guardianship and Conservatorship.</span></p><p style="text-indent: -0.25in\; margin: 0in 0in 0.0001pt 38.7pt\; font-family: Calibri\, sans-serif\; font-size: 11pt\;"><span style="font-family: Symbol\; color: black\;">&middot\;</span><span style='font-family: "Times New Roman"\, serif\; font-size: 7pt\; color: black\;'>&nbsp\; &nbsp\; &nbsp\; &nbsp\; &nbsp\;</span><span style="font-family: Arial\, sans-serif\; color: black\;">The Guardianship Process: When and how to initiate\, modify or terminate a Guardianship with new on-line resources.</span></p><p style="text-indent: -0.25in\; margin: 0in 0in 0.0001pt 38.7pt\; font-family: Calibri\, sans-serif\; font-size: 11pt\;"><span style="font-family: Symbol\; color: black\;">&middot\;</span><span style='font-family: "Times New Roman"\, serif\; font-size: 7pt\; color: black\;'>&nbsp\; &nbsp\; &nbsp\; &nbsp\; &nbsp\;</span><span style="font-family: Arial\, sans-serif\; color: black\;">Update on MOLST to POLST Transition going live April 2027.</span></p><p style="text-indent: -0.25in\; margin: 0in 0in 0.0001pt 38.7pt\; font-family: Calibri\, sans-serif\; font-size: 11pt\;"><span style="font-family: Symbol\; color: black\;">&middot\;</span><span style='font-family: "Times New Roman"\, serif\; font-size: 7pt\; color: black\;'>&nbsp\; &nbsp\; &nbsp\; &nbsp\; &nbsp\;</span><span style="font-family: Arial\, sans-serif\; color: black\;">Q/A- share comments and questions to address challenges.</span></p><p style="text-indent: -0.25in\; margin: 0in 0in 0.0001pt 38.7pt\; font-family: Calibri\, sans-serif\; font-size: 11pt\;"><br></p><p style="margin: 0in 0in 0.0001pt\; font-family: Calibri\, sans-serif\; font-size: 11pt\;"><span style="font-family: Arial\, sans-serif\; color: black\;">Takeaways- &nbsp\;Participants receive new tools and on-line free resources.</span></p><p style="margin: 0in 0in 0.0001pt\; font-family: Calibri\, sans-serif\; font-size: 11pt\;"><br></p><p style="margin: 0in 0in 0.0001pt\; font-family: Calibri\, sans-serif\; font-size: 11pt\;"><span style="font-family: Arial\, sans-serif\; color: black\;"><strong fr-original-style="" style="font-weight: 700\;">Speaker:</strong></span></p><p style="margin-top: 0px\; margin-bottom: 0px\; font-family: Calibri\, sans-serif\; font-size: 11pt\;"><span data-olk-copy-source="MailCompose" style="font-family: Arial\, sans-serif\; font-size: 10pt\; color: black\;">Ellen M. DiPaola. JD\, is the President and CEO of Honoring Choices Massachusetts.</span></p><p style="margin-top: 0px\; margin-bottom: 0px\; font-family: Calibri\, sans-serif\; font-size: 11pt\;"><br></p><p style="margin-top: 0px\; margin-bottom: 0px\; font-family: Calibri\, sans-serif\; font-size: 11pt\;"><br></p></body></html>
LOCATION:
UID:e.4257.1444661
SEQUENCE:3
DTSTAMP:20260422T150658Z
URL:https://members.thinkhomecare.org/advocacy-calendar/Details/spring-update-help-adults-build-in-services-supports-when-they-need-it-1711072?sourceTypeId=Hub
END:VEVENT
END:VCALENDAR
