BEGIN:VCALENDAR
VERSION:2.0
PRODID:-//ChamberMaster//Event Calendar 2.0//EN
METHOD:PUBLISH
X-PUBLISHED-TTL:P1H
REFRESH-INTERVAL:P1H
CALSCALE:GREGORIAN
BEGIN:VTIMEZONE
TZID:America/New_York
BEGIN:DAYLIGHT
RRULE:FREQ=YEARLY;BYMONTH=3;BYDAY=2SU
DTSTART:20070101T000000
TZOFFSETFROM:-0500
TZOFFSETTO:-0400
TZNAME:Eastern Daylight Time
END:DAYLIGHT
BEGIN:STANDARD
RRULE:FREQ=YEARLY;BYMONTH=11;BYDAY=1SU
DTSTART:20070101T000000
TZOFFSETFROM:-0400
TZOFFSETTO:-0500
TZNAME:Eastern Standard Time
END:STANDARD
END:VTIMEZONE
BEGIN:VEVENT
DTSTART;TZID=America/New_York:20260506T093000
DTEND;TZID=America/New_York:20260506T123000
X-MICROSOFT-CDO-ALLDAYEVENT:FALSE
SUMMARY:PHCAST Train-the-Trainer
DESCRIPTION:Learn how to bring the Massachusetts Personal and Home State Training (PHCAST) to your community.\n\n\n\nThis Train-the-Trainer workshop is for home care agencies that want access to this curriculum to train their own Homemakers and Personal Care Homemakers. It is also intended for community colleges\, vocational technical high schools\, and other organizations seeking to incorporate entry-level career ladder material for individuals in the home health aide and nurse aide training.\n\n\n\nThe ABCs for Direct Care Workers/PHCAST is a comprehensive curriculum that prepares learners to become certified Homemakers or Personal Care Homemakers in Massachusetts.\n\n\n\nNote: All PHCAST training materials are the property of the Massachusetts Executive Office of Health and Human Services (EOHHS). PHCAST training materials may not be modified or utilized to facilitate for-profit endeavors.\n\n\n\nThe program will meet the requirements of the Massachusetts Board of Registration in Nursing at 244 CMR 5.00 for 3 contact hours.
X-ALT-DESC;FMTTYPE=text/html:Learn how to bring the Massachusetts Personal and Home State Training (PHCAST) to your community.\n\n\n\nThis Train-the-Trainer workshop is for home care agencies that want access to this curriculum to train their own Homemakers and Personal Care Homemakers. It is also intended for community colleges\, vocational technical high schools\, and other organizations seeking to incorporate entry-level career ladder material for individuals in the home health aide and nurse aide training.\n\n\n\nThe ABCs for Direct Care Workers/PHCAST is a comprehensive curriculum that prepares learners to become certified Homemakers or Personal Care Homemakers in Massachusetts.\n\n\n\nNote: All PHCAST training materials are the property of the Massachusetts Executive Office of Health and Human Services (EOHHS). PHCAST training materials may not be modified or utilized to facilitate for-profit endeavors.\n\n\n\nThe program will meet the requirements of the Massachusetts Board of Registration in Nursing at 244 CMR 5.00 for 3 contact hours.
LOCATION:Westborough MA 01581
UID:e.4257.1446633
SEQUENCE:3
DTSTAMP:20260421T162113Z
URL:https://members.thinkhomecare.org/advocacy-calendar/Details/phcast-train-the-trainer-1713407?sourceTypeId=Hub
END:VEVENT
END:VCALENDAR
